BEGIN:VCALENDAR
VERSION:2.0
PRODID:-//Plone.org//NONSGML plone.app.event//EN
X-WR-TIMEZONE:Europe/Madrid
BEGIN:VEVENT
SUMMARY:Esdeveniment de mostra
DTSTART;TZID=Europe/Madrid:20180205T130000
DTEND;TZID=Europe/Madrid:20181202T130000
DTSTAMP:20260424T154436Z
UID:75c5b5757cd2475ca7795de3f1ef1c9e@fisidabo.upc.edu
CONTACT:Responsable esdeveniment\, adreca@noreply.com
CREATED:20180205T125535Z
LAST-MODIFIED:20180205T125542Z
LOCATION:Lloc de l'esdeveniment
URL:https://fisidabo.upc.edu/ca/esdeveniments/esdeveniment-de-mostra
END:VEVENT
BEGIN:VTIMEZONE
TZID:Europe/Madrid
X-LIC-LOCATION:Europe/Madrid
BEGIN:STANDARD
DTSTART:20171029T020000
TZNAME:CET
TZOFFSETFROM:+0200
TZOFFSETTO:+0100
END:STANDARD
BEGIN:STANDARD
DTSTART:20181028T020000
TZNAME:CET
TZOFFSETFROM:+0200
TZOFFSETTO:+0100
END:STANDARD
END:VTIMEZONE
END:VCALENDAR
